BEGIN:VCALENDAR
VERSION:2.0
PRODID:-//ChamberMaster//Event Calendar 2.0//EN
METHOD:PUBLISH
X-PUBLISHED-TTL:P3D
REFRESH-INTERVAL:P3D
CALSCALE:GREGORIAN
BEGIN:VEVENT
DTSTART:20260717T140000Z
DTEND:20260717T150000Z
X-MICROSOFT-CDO-ALLDAYEVENT:FALSE
SUMMARY:Chamber Chat - Hays Community Theatre
DESCRIPTION:Please join The Chamber in Hays\, Kansas for a Chamber Chat with the Hays Community Theatre to learn more about their summer production!
X-ALT-DESC;FMTTYPE=text/html:Please join The Chamber in Hays\, Kansas for a Chamber Chat with the Hays Community Theatre to learn more about their summer production!
LOCATION:Hays Community Theatre 121 E 8th St.\, Hays
UID:e.1271.12648
SEQUENCE:3
DTSTAMP:20260424T014209Z
URL:https://members.hayschamber.com/events/details/chamber-chat-hays-community-theatre-12648
END:VEVENT

END:VCALENDAR
