BEGIN:VCALENDAR
VERSION:2.0
PRODID:-//ChamberMaster//Event Calendar 2.0//EN
METHOD:PUBLISH
X-PUBLISHED-TTL:P3D
REFRESH-INTERVAL:P3D
CALSCALE:GREGORIAN
BEGIN:VEVENT
DTSTART:20181130T150000Z
DTEND:20181130T160000Z
X-MICROSOFT-CDO-ALLDAYEVENT:FALSE
SUMMARY:Chamber Chat - Hays High School Athletics
DESCRIPTION:
X-ALT-DESC;FMTTYPE=text/html:
LOCATION:Hays High School Main door entrance
UID:e.1271.9881
SEQUENCE:3
DTSTAMP:20260423T055803Z
URL:https://members.hayschamber.com/events/details/chamber-chat-hays-high-school-athletics-9881
END:VEVENT

END:VCALENDAR
