BEGIN:VCALENDAR
VERSION:2.0
PRODID:-//ChamberMaster//Event Calendar 2.0//EN
METHOD:PUBLISH
X-PUBLISHED-TTL:P3D
REFRESH-INTERVAL:P3D
CALSCALE:GREGORIAN
BEGIN:VEVENT
DTSTART:20190816T140000Z
DTEND:20190816T150000Z
X-MICROSOFT-CDO-ALLDAYEVENT:FALSE
SUMMARY:Chamber Chat - Hays Symphony & Orchestra
DESCRIPTION:
X-ALT-DESC;FMTTYPE=text/html:
LOCATION:Memorial Union - Atrium FHSU Campus 600 Park St.
UID:e.1271.10284
SEQUENCE:3
DTSTAMP:20260422T032059Z
URL:https://members.hayschamber.com/events/details/chamber-chat-hays-symphony-orchestra-10284
END:VEVENT

END:VCALENDAR
