BEGIN:VCALENDAR
VERSION:2.0
PRODID:-//ChamberMaster//Event Calendar 2.0//EN
METHOD:PUBLISH
X-PUBLISHED-TTL:P3D
REFRESH-INTERVAL:P3D
CALSCALE:GREGORIAN
BEGIN:VEVENT
DTSTART:20200313T140000Z
DTEND:20200313T150000Z
X-MICROSOFT-CDO-ALLDAYEVENT:FALSE
SUMMARY:Chamber Chat - HaysMed The University of Kansas Health System
DESCRIPTION:Chamber Chat
X-ALT-DESC;FMTTYPE=text/html:Chamber Chat&nbsp\;
LOCATION:2220 Canterbury Dr. (Entrance C)
UID:e.1271.10362
SEQUENCE:3
DTSTAMP:20260422T082649Z
URL:https://members.hayschamber.com/events/details/chamber-chat-haysmed-the-university-of-kansas-health-system-10362
END:VEVENT

END:VCALENDAR
