BEGIN:VCALENDAR
VERSION:2.0
PRODID:-//ChamberMaster//Event Calendar 2.0//EN
METHOD:PUBLISH
X-PUBLISHED-TTL:P3D
REFRESH-INTERVAL:P3D
CALSCALE:GREGORIAN
BEGIN:VEVENT
DTSTART:20170120T150000Z
DTEND:20170120T160000Z
X-MICROSOFT-CDO-ALLDAYEVENT:FALSE
SUMMARY:Chamber Chat-Heartland Building Center
DESCRIPTION:
X-ALT-DESC;FMTTYPE=text/html:
LOCATION:Heartland Building Center 2510 General Hays Rd.
UID:e.1271.5990
SEQUENCE:3
DTSTAMP:20260426T021420Z
URL:https://members.hayschamber.com/events/details/chamber-chat-heartland-building-center-5990
END:VEVENT

END:VCALENDAR
