BEGIN:VCALENDAR
VERSION:2.0
PRODID:-//ChamberMaster//Event Calendar 2.0//EN
METHOD:PUBLISH
X-PUBLISHED-TTL:P3D
REFRESH-INTERVAL:P3D
CALSCALE:GREGORIAN
BEGIN:VEVENT
DTSTART:20180406T140000Z
DTEND:20180406T150000Z
X-MICROSOFT-CDO-ALLDAYEVENT:FALSE
SUMMARY:Chamber Chat - Heartland Community Foundation
DESCRIPTION:
X-ALT-DESC;FMTTYPE=text/html:
LOCATION:Welcome Center 2700 Vine
UID:e.1271.8743
SEQUENCE:3
DTSTAMP:20260424T055104Z
URL:https://members.hayschamber.com/events/details/chamber-chat-heartland-community-foundation-8743
END:VEVENT

END:VCALENDAR
