BEGIN:VCALENDAR
VERSION:2.0
PRODID:-//ChamberMaster//Event Calendar 2.0//EN
METHOD:PUBLISH
X-PUBLISHED-TTL:P3D
REFRESH-INTERVAL:P3D
CALSCALE:GREGORIAN
BEGIN:VEVENT
DTSTART:20190104T150000Z
DTEND:20190104T160000Z
X-MICROSOFT-CDO-ALLDAYEVENT:FALSE
SUMMARY:Chamber Chat - Hickok's Steakhouse
DESCRIPTION:
X-ALT-DESC;FMTTYPE=text/html:
LOCATION:3402 Vine St.
UID:e.1271.9918
SEQUENCE:3
DTSTAMP:20260423T055805Z
URL:https://members.hayschamber.com/events/details/chamber-chat-hickok-s-steakhouse-9918
END:VEVENT

END:VCALENDAR
