BEGIN:VCALENDAR
VERSION:2.0
PRODID:-//ChamberMaster//Event Calendar 2.0//EN
METHOD:PUBLISH
X-PUBLISHED-TTL:P3D
REFRESH-INTERVAL:P3D
CALSCALE:GREGORIAN
BEGIN:VEVENT
DTSTART:20180309T150000Z
DTEND:20180309T160000Z
X-MICROSOFT-CDO-ALLDAYEVENT:FALSE
SUMMARY:Chamber Chat-High Plains Barbershop/Chartier
DESCRIPTION:Help Chartier Supplemental Insurance kick-off the 50th Anniversary of the High Plains Barbershop crew!\n\nPerformance by one of the High Plains barbershop quartets.
X-ALT-DESC;FMTTYPE=text/html:Help Chartier Supplemental Insurance kick-off the 50th Anniversary of the High Plains Barbershop crew!<br />\nPerformance by one of the High Plains&nbsp\;barbershop quartets.&nbsp\;
LOCATION:Hays Rec Commission (Del Allenbaugh conference room)
UID:e.1271.8767
SEQUENCE:3
DTSTAMP:20260424T081215Z
URL:https://members.hayschamber.com/events/details/chamber-chat-high-plains-barbershop-chartier-8767
END:VEVENT

END:VCALENDAR
