BEGIN:VCALENDAR
VERSION:2.0
PRODID:-//ChamberMaster//Event Calendar 2.0//EN
METHOD:PUBLISH
X-PUBLISHED-TTL:P3D
REFRESH-INTERVAL:P3D
CALSCALE:GREGORIAN
BEGIN:VEVENT
DTSTART:20191220T150000Z
DTEND:20191220T160000Z
X-MICROSOFT-CDO-ALLDAYEVENT:FALSE
SUMMARY:Chamber Chat - High Plains Barbershop Chorus
DESCRIPTION:Chamber Chat
X-ALT-DESC;FMTTYPE=text/html:Chamber Chat&nbsp\; &nbsp\;
LOCATION:Hays Recreation Commission (1105 Canterbury Dr.)
UID:e.1271.10327
SEQUENCE:3
DTSTAMP:20260421T232125Z
URL:https://members.hayschamber.com/events/details/chamber-chat-high-plains-barbershop-chorus-10327
END:VEVENT

END:VCALENDAR
