BEGIN:VCALENDAR
VERSION:2.0
PRODID:-//ChamberMaster//Event Calendar 2.0//EN
METHOD:PUBLISH
X-PUBLISHED-TTL:P3D
REFRESH-INTERVAL:P3D
CALSCALE:GREGORIAN
BEGIN:VEVENT
DTSTART:20190201T150000Z
DTEND:20190201T160000Z
X-MICROSOFT-CDO-ALLDAYEVENT:FALSE
SUMMARY:Chamber Chat - High Plains Mental Health
DESCRIPTION:
X-ALT-DESC;FMTTYPE=text/html:
LOCATION:208 E. 7th St.
UID:e.1271.9916
SEQUENCE:3
DTSTAMP:20260422T204950Z
URL:https://members.hayschamber.com/events/details/chamber-chat-high-plains-mental-health-9916
END:VEVENT

END:VCALENDAR
