BEGIN:VCALENDAR
VERSION:2.0
PRODID:-//ChamberMaster//Event Calendar 2.0//EN
METHOD:PUBLISH
X-PUBLISHED-TTL:P3D
REFRESH-INTERVAL:P3D
CALSCALE:GREGORIAN
BEGIN:VEVENT
DTSTART:20260710T140000Z
DTEND:20260711T030000Z
X-MICROSOFT-CDO-ALLDAYEVENT:FALSE
SUMMARY:Chamber Chat: High Plains Mental Health Center - Masquerade on Main
DESCRIPTION:Please join The Chamber in Hays\, Kansas for a Chamber Chat with High Plains Mental Health Center to learn about their upcoming Masquerade on Main!
X-ALT-DESC;FMTTYPE=text/html:Please join The Chamber in Hays\, Kansas for a Chamber Chat with High Plains Mental Health Center to learn about their upcoming Masquerade on Main!
LOCATION:TBD
UID:e.1271.12618
SEQUENCE:3
DTSTAMP:20260424T001355Z
URL:https://members.hayschamber.com/events/details/chamber-chat-high-plains-mental-health-center-masquerade-on-main-12618
END:VEVENT

END:VCALENDAR
