BEGIN:VCALENDAR
VERSION:2.0
PRODID:-//ChamberMaster//Event Calendar 2.0//EN
METHOD:PUBLISH
X-PUBLISHED-TTL:P3D
REFRESH-INTERVAL:P3D
CALSCALE:GREGORIAN
BEGIN:VEVENT
DTSTART:20260731T140000Z
DTEND:20260731T150000Z
X-MICROSOFT-CDO-ALLDAYEVENT:FALSE
SUMMARY:Chamber Chat - Kansas Merci Boxcar
DESCRIPTION:Please join us for a Chamber Chat with the Kansas Merci Boxcar and check out the newly installed kitchen at the American Legion.
X-ALT-DESC;FMTTYPE=text/html:Please join us for a Chamber Chat with the Kansas Merci Boxcar and check out the newly installed kitchen at the American Legion.
LOCATION:New American Legion Building 5025 General Hays Rd.\, Hays
UID:e.1271.12953
SEQUENCE:3
DTSTAMP:20260424T085243Z
URL:https://members.hayschamber.com/events/details/chamber-chat-kansas-merci-boxcar-12953
END:VEVENT

END:VCALENDAR
