BEGIN:VCALENDAR
VERSION:2.0
PRODID:-//ChamberMaster//Event Calendar 2.0//EN
METHOD:PUBLISH
X-PUBLISHED-TTL:P3D
REFRESH-INTERVAL:P3D
CALSCALE:GREGORIAN
BEGIN:VEVENT
DTSTART:20200221T150000Z
DTEND:20200221T160000Z
X-MICROSOFT-CDO-ALLDAYEVENT:FALSE
SUMMARY:Chamber Chat - KSN
DESCRIPTION:Weekly Chamber Chat
X-ALT-DESC;FMTTYPE=text/html:Weekly Chamber Chat
LOCATION:Welcome Center Conference Room 2700 Vine St. Hays\, KS 67601
UID:e.1271.10397
SEQUENCE:3
DTSTAMP:20260420T093149Z
URL:https://members.hayschamber.com/events/details/chamber-chat-ksn-10397
END:VEVENT

END:VCALENDAR
