BEGIN:VCALENDAR
VERSION:2.0
PRODID:-//ChamberMaster//Event Calendar 2.0//EN
METHOD:PUBLISH
X-PUBLISHED-TTL:P3D
REFRESH-INTERVAL:P3D
CALSCALE:GREGORIAN
BEGIN:VEVENT
DTSTART:20180907T140000Z
DTEND:20180907T150000Z
X-MICROSOFT-CDO-ALLDAYEVENT:FALSE
SUMMARY:Chamber Chat - NCK Tech
DESCRIPTION:
X-ALT-DESC;FMTTYPE=text/html:
LOCATION:Business Occupation Center NCK Tech main campus 2205 Wheatland Dr
UID:e.1271.9808
SEQUENCE:3
DTSTAMP:20260423T171008Z
URL:https://members.hayschamber.com/events/details/chamber-chat-nck-tech-9808
END:VEVENT

END:VCALENDAR
