BEGIN:VCALENDAR
VERSION:2.0
PRODID:-//ChamberMaster//Event Calendar 2.0//EN
METHOD:PUBLISH
X-PUBLISHED-TTL:P3D
REFRESH-INTERVAL:P3D
CALSCALE:GREGORIAN
BEGIN:VEVENT
DTSTART:20180413T140000Z
DTEND:20180413T150000Z
X-MICROSOFT-CDO-ALLDAYEVENT:FALSE
SUMMARY:Chamber Chat-NCK Tech Welding Program
DESCRIPTION:
X-ALT-DESC;FMTTYPE=text/html:
LOCATION:On the FHSU Campus\, inside the Center for Applied Technology Across from the Memorial Union
UID:e.1271.8766
SEQUENCE:3
DTSTAMP:20260424T064026Z
URL:https://members.hayschamber.com/events/details/chamber-chat-nck-tech-welding-program-8766
END:VEVENT

END:VCALENDAR
