BEGIN:VCALENDAR
VERSION:2.0
PRODID:-//ChamberMaster//Event Calendar 2.0//EN
METHOD:PUBLISH
X-PUBLISHED-TTL:P3D
REFRESH-INTERVAL:P3D
CALSCALE:GREGORIAN
BEGIN:VEVENT
DTSTART:20190913T140000Z
DTEND:20190913T150000Z
X-MICROSOFT-CDO-ALLDAYEVENT:FALSE
SUMMARY:Chamber Chat - Paisley Pear Wine Bar\, Bistro & Market
DESCRIPTION:Chamber Chat
X-ALT-DESC;FMTTYPE=text/html:Chamber Chat
LOCATION:1100 Main St
UID:e.1271.10302
SEQUENCE:3
DTSTAMP:20260422T020948Z
URL:https://members.hayschamber.com/events/details/chamber-chat-paisley-pear-wine-bar-bistro-market-10302
END:VEVENT

END:VCALENDAR
