BEGIN:VCALENDAR
VERSION:2.0
PRODID:-//ChamberMaster//Event Calendar 2.0//EN
METHOD:PUBLISH
X-PUBLISHED-TTL:P3D
REFRESH-INTERVAL:P3D
CALSCALE:GREGORIAN
BEGIN:VEVENT
DTSTART:20200131T150000Z
DTEND:20200131T160000Z
X-MICROSOFT-CDO-ALLDAYEVENT:FALSE
SUMMARY:Chamber Chat - Premier Indoor Training
DESCRIPTION:Chamber Chat
X-ALT-DESC;FMTTYPE=text/html:Chamber Chat&nbsp\;
LOCATION:1035 240th Ave.
UID:e.1271.10367
SEQUENCE:3
DTSTAMP:20260420T122410Z
URL:https://members.hayschamber.com/events/details/chamber-chat-premier-indoor-training-10367
END:VEVENT

END:VCALENDAR
