BEGIN:VCALENDAR
VERSION:2.0
PRODID:-//ChamberMaster//Event Calendar 2.0//EN
METHOD:PUBLISH
X-PUBLISHED-TTL:P3D
REFRESH-INTERVAL:P3D
CALSCALE:GREGORIAN
BEGIN:VEVENT
DTSTART:20180323T140000Z
DTEND:20180323T150000Z
X-MICROSOFT-CDO-ALLDAYEVENT:FALSE
SUMMARY:Chamber Chat-RANS
DESCRIPTION:
X-ALT-DESC;FMTTYPE=text/html:
LOCATION:4600 Hwy 183 Alt
UID:e.1271.8773
SEQUENCE:3
DTSTAMP:20260424T144201Z
URL:https://members.hayschamber.com/events/details/chamber-chat-rans-8773
END:VEVENT

END:VCALENDAR
