BEGIN:VCALENDAR
VERSION:2.0
PRODID:-//ChamberMaster//Event Calendar 2.0//EN
METHOD:PUBLISH
X-PUBLISHED-TTL:P3D
REFRESH-INTERVAL:P3D
CALSCALE:GREGORIAN
BEGIN:VEVENT
DTSTART:20170804T140000Z
DTEND:20170804T150000Z
X-MICROSOFT-CDO-ALLDAYEVENT:FALSE
SUMMARY:Chamber Chat - Riordan Clinic
DESCRIPTION:
X-ALT-DESC;FMTTYPE=text/html:
LOCATION:Riordan Clinic 1010 E. 17th
UID:e.1271.7607
SEQUENCE:3
DTSTAMP:20260425T035205Z
URL:https://members.hayschamber.com/events/details/chamber-chat-riordan-clinic-7607
END:VEVENT

END:VCALENDAR
