BEGIN:VCALENDAR
VERSION:2.0
PRODID:-//ChamberMaster//Event Calendar 2.0//EN
METHOD:PUBLISH
X-PUBLISHED-TTL:P3D
REFRESH-INTERVAL:P3D
CALSCALE:GREGORIAN
BEGIN:VEVENT
DTSTART:20181214T150000Z
DTEND:20181214T160000Z
X-MICROSOFT-CDO-ALLDAYEVENT:FALSE
SUMMARY:Chamber Chat - Saint Francis Ministries
DESCRIPTION:
X-ALT-DESC;FMTTYPE=text/html:
LOCATION:3000 Broadway
UID:e.1271.9892
SEQUENCE:3
DTSTAMP:20260423T055806Z
URL:https://members.hayschamber.com/events/details/chamber-chat-saint-francis-ministries-9892
END:VEVENT

END:VCALENDAR
