BEGIN:VCALENDAR
VERSION:2.0
PRODID:-//ChamberMaster//Event Calendar 2.0//EN
METHOD:PUBLISH
X-PUBLISHED-TTL:P3D
REFRESH-INTERVAL:P3D
CALSCALE:GREGORIAN
BEGIN:VEVENT
DTSTART:20200207T150000Z
DTEND:20200207T160000Z
X-MICROSOFT-CDO-ALLDAYEVENT:FALSE
SUMMARY:Chamber Chat - Soroptimist Group
DESCRIPTION:Chamber Chat
X-ALT-DESC;FMTTYPE=text/html:Chamber Chat
LOCATION:The Press (230 E 8th St.)
UID:e.1271.10396
SEQUENCE:3
DTSTAMP:20260420T104331Z
URL:https://members.hayschamber.com/events/details/chamber-chat-soroptimist-group-10396
END:VEVENT

END:VCALENDAR
