BEGIN:VCALENDAR
VERSION:2.0
PRODID:-//ChamberMaster//Event Calendar 2.0//EN
METHOD:PUBLISH
X-PUBLISHED-TTL:P3D
REFRESH-INTERVAL:P3D
CALSCALE:GREGORIAN
BEGIN:VEVENT
DTSTART:20180302T150000Z
DTEND:20180302T160000Z
X-MICROSOFT-CDO-ALLDAYEVENT:FALSE
SUMMARY:Chamber Chat - Student Government Association\, FHSU
DESCRIPTION:
X-ALT-DESC;FMTTYPE=text/html:
LOCATION:Memorial Union\, FHSU 600 Park Street
UID:e.1271.8664
SEQUENCE:3
DTSTAMP:20260424T081213Z
URL:https://members.hayschamber.com/events/details/chamber-chat-student-government-association-fhsu-8664
END:VEVENT

END:VCALENDAR
