BEGIN:VCALENDAR
VERSION:2.0
PRODID:-//ChamberMaster//Event Calendar 2.0//EN
METHOD:PUBLISH
X-PUBLISHED-TTL:P3D
REFRESH-INTERVAL:P3D
CALSCALE:GREGORIAN
BEGIN:VEVENT
DTSTART:20200228T150000Z
DTEND:20200228T160000Z
X-MICROSOFT-CDO-ALLDAYEVENT:FALSE
SUMMARY:Chamber Chat - Sunflower Bank
DESCRIPTION:Weekly Chamber Chat
X-ALT-DESC;FMTTYPE=text/html:Weekly Chamber Chat
LOCATION:Sunflower Bank 1010 E. 27th St.
UID:e.1271.10368
SEQUENCE:3
DTSTAMP:20260420T104749Z
URL:https://members.hayschamber.com/events/details/chamber-chat-sunflower-bank-10368
END:VEVENT

END:VCALENDAR
