BEGIN:VCALENDAR
VERSION:2.0
PRODID:-//ChamberMaster//Event Calendar 2.0//EN
METHOD:PUBLISH
X-PUBLISHED-TTL:P3D
REFRESH-INTERVAL:P3D
CALSCALE:GREGORIAN
BEGIN:VEVENT
DTSTART:20180713T140000Z
DTEND:20180713T150000Z
X-MICROSOFT-CDO-ALLDAYEVENT:FALSE
SUMMARY:Chamber Chat - The Arc of Central Plains
DESCRIPTION:
X-ALT-DESC;FMTTYPE=text/html:
LOCATION:The Arc of Central Plains 600 Main St.
UID:e.1271.9821
SEQUENCE:3
DTSTAMP:20260424T025228Z
URL:https://members.hayschamber.com/events/details/chamber-chat-the-arc-of-central-plains-9821
END:VEVENT

END:VCALENDAR
