BEGIN:VCALENDAR
VERSION:2.0
PRODID:-//ChamberMaster//Event Calendar 2.0//EN
METHOD:PUBLISH
X-PUBLISHED-TTL:P3D
REFRESH-INTERVAL:P3D
CALSCALE:GREGORIAN
BEGIN:VEVENT
DTSTART:20171020T140000Z
DTEND:20171020T150000Z
X-MICROSOFT-CDO-ALLDAYEVENT:FALSE
SUMMARY:Chamber Chat-United Way of Ellis County
DESCRIPTION:
X-ALT-DESC;FMTTYPE=text/html:
LOCATION:United Way of Ellis County 1st floor (Hadley Center)
UID:e.1271.5834
SEQUENCE:3
DTSTAMP:20260425T022320Z
URL:https://members.hayschamber.com/events/details/chamber-chat-united-way-of-ellis-county-5834
END:VEVENT

END:VCALENDAR
