BEGIN:VCALENDAR
VERSION:2.0
PRODID:-//ChamberMaster//Event Calendar 2.0//EN
METHOD:PUBLISH
X-PUBLISHED-TTL:P3D
REFRESH-INTERVAL:P3D
CALSCALE:GREGORIAN
BEGIN:VEVENT
DTSTART:20171103T140000Z
DTEND:20171103T150000Z
X-MICROSOFT-CDO-ALLDAYEVENT:FALSE
SUMMARY:Chamber Chat-USD 489
DESCRIPTION:This chamber chat is regarding the school bond issue.
X-ALT-DESC;FMTTYPE=text/html:This chamber chat is regarding the school bond issue.
LOCATION:Toepfer Board Room located at 323 West 12th
UID:e.1271.7620
SEQUENCE:3
DTSTAMP:20260424T190303Z
URL:https://members.hayschamber.com/events/details/chamber-chat-usd-489-7620
END:VEVENT

END:VCALENDAR
