BEGIN:VCALENDAR
VERSION:2.0
PRODID:-//ChamberMaster//Event Calendar 2.0//EN
METHOD:PUBLISH
X-PUBLISHED-TTL:P3D
REFRESH-INTERVAL:P3D
CALSCALE:GREGORIAN
BEGIN:VEVENT
DTSTART:20190823T140000Z
DTEND:20190823T150000Z
X-MICROSOFT-CDO-ALLDAYEVENT:FALSE
SUMMARY:Chamber Chat - USD 489 Foundation
DESCRIPTION:
X-ALT-DESC;FMTTYPE=text/html:
LOCATION:Hays High School 2300 E 13th St.
UID:e.1271.10272
SEQUENCE:3
DTSTAMP:20260422T031738Z
URL:https://members.hayschamber.com/events/details/chamber-chat-usd-489-foundation-10272
END:VEVENT

END:VCALENDAR
