BEGIN:VCALENDAR
VERSION:2.0
PRODID:-//ChamberMaster//Event Calendar 2.0//EN
METHOD:PUBLISH
X-PUBLISHED-TTL:P3D
REFRESH-INTERVAL:P3D
CALSCALE:GREGORIAN
BEGIN:VEVENT
DTSTART:20180518T140000Z
DTEND:20180518T150000Z
X-MICROSOFT-CDO-ALLDAYEVENT:FALSE
SUMMARY:Chamber Chat - Vanderbilt's
DESCRIPTION:
X-ALT-DESC;FMTTYPE=text/html:
LOCATION:2704 Vine St.\, Ste A
UID:e.1271.8793
SEQUENCE:3
DTSTAMP:20260424T053248Z
URL:https://members.hayschamber.com/events/details/chamber-chat-vanderbilt-s-8793
END:VEVENT

END:VCALENDAR
