BEGIN:VCALENDAR
VERSION:2.0
PRODID:-//ChamberMaster//Event Calendar 2.0//EN
METHOD:PUBLISH
X-PUBLISHED-TTL:P3D
REFRESH-INTERVAL:P3D
CALSCALE:GREGORIAN
BEGIN:VEVENT
DTSTART:20180629T140000Z
DTEND:20180629T150000Z
X-MICROSOFT-CDO-ALLDAYEVENT:FALSE
SUMMARY:Chamber Chat - Wild West Festival
DESCRIPTION:
X-ALT-DESC;FMTTYPE=text/html:
LOCATION:Downtown Hays Municipal Park In case of rain: NCK-Tech building (across from Municipal Park)
UID:e.1271.8762
SEQUENCE:3
DTSTAMP:20260424T085240Z
URL:https://members.hayschamber.com/events/details/chamber-chat-wild-west-festival-8762
END:VEVENT

END:VCALENDAR
