BEGIN:VCALENDAR
VERSION:2.0
PRODID:-//ChamberMaster//Event Calendar 2.0//EN
METHOD:PUBLISH
X-PUBLISHED-TTL:P3D
REFRESH-INTERVAL:P3D
CALSCALE:GREGORIAN
BEGIN:VEVENT
DTSTART;VALUE=DATE:20170414
DTEND;VALUE=DATE:20170415
TRANSP:TRANSPARENT
X-MICROSOFT-CDO-ALLDAYEVENT:TRUE
SUMMARY:Chamber Closed
DESCRIPTION:
X-ALT-DESC;FMTTYPE=text/html:
LOCATION:We are closed due to Good Friday. We will be back open on Monday\, April 17. Sorry for any inconvenience.
UID:e.1271.6106
SEQUENCE:3
DTSTAMP:20260425T174303Z
URL:https://members.hayschamber.com/events/details/chamber-closed-6106
END:VEVENT

END:VCALENDAR
