BEGIN:VCALENDAR
VERSION:2.0
PRODID:-//ChamberMaster//Event Calendar 2.0//EN
METHOD:PUBLISH
X-PUBLISHED-TTL:P3D
REFRESH-INTERVAL:P3D
CALSCALE:GREGORIAN
BEGIN:VEVENT
DTSTART;VALUE=DATE:20170529
DTEND;VALUE=DATE:20170530
TRANSP:TRANSPARENT
X-MICROSOFT-CDO-ALLDAYEVENT:TRUE
SUMMARY:Chamber Closed
DESCRIPTION:Due to the Memorial Day holiday\, the Chamber will be closed. We apologize for any inconvenience!
X-ALT-DESC;FMTTYPE=text/html:Due to the Memorial Day holiday\, the Chamber will be closed. We apologize for any inconvenience!
LOCATION:
UID:e.1271.6180
SEQUENCE:3
DTSTAMP:20260425T174304Z
URL:https://members.hayschamber.com/events/details/chamber-closed-6180
END:VEVENT

END:VCALENDAR
