BEGIN:VCALENDAR
VERSION:2.0
PRODID:-//ChamberMaster//Event Calendar 2.0//EN
METHOD:PUBLISH
X-PUBLISHED-TTL:P3D
REFRESH-INTERVAL:P3D
CALSCALE:GREGORIAN
BEGIN:VEVENT
DTSTART;VALUE=DATE:20200203
DTEND;VALUE=DATE:20200204
TRANSP:TRANSPARENT
X-MICROSOFT-CDO-ALLDAYEVENT:TRUE
SUMMARY:Chamber Office Closed
DESCRIPTION:The office will be closed today to accommodate overtime hours that may have been accrued perfecting the Annual Banquet 2020 last week. The Chamber staff will return to normal hours on Tuesday\, February 4th\, at 7:30 a.m.. If you need to contact one of us\, please email hayscc@hayschamber.com and we will be in touch with you as soon as possible!\n\n \n\nThe Welcome Center is still open today during the normal operating hours of 7:30 a.m. - 5:30p.m..
X-ALT-DESC;FMTTYPE=text/html:<p>The office will be closed today to accommodate overtime hours that may have been accrued perfecting the Annual Banquet 2020 last week. The Chamber staff will return to normal hours on Tuesday\, February 4th\, at 7:30 a.m.. If you need to contact one of us\, please email hayscc@hayschamber.com and we will be in touch with you as soon as possible!</p>\n\n<p>&nbsp\;</p>\n\n<p>The Welcome Center is still open today during the normal operating hours of 7:30 a.m. - 5:30p.m..</p>\n
LOCATION:2700 Vine St. Hays\, KS 67601
UID:e.1271.10573
SEQUENCE:3
DTSTAMP:20260420T104209Z
URL:https://members.hayschamber.com/events/details/chamber-office-closed-10573
END:VEVENT

END:VCALENDAR
