BEGIN:VCALENDAR
VERSION:2.0
PRODID:-//ChamberMaster//Event Calendar 2.0//EN
METHOD:PUBLISH
X-PUBLISHED-TTL:P3D
REFRESH-INTERVAL:P3D
CALSCALE:GREGORIAN
BEGIN:VEVENT
DTSTART;VALUE=DATE:20170203
DTEND;VALUE=DATE:20170204
TRANSP:TRANSPARENT
X-MICROSOFT-CDO-ALLDAYEVENT:TRUE
SUMMARY:Chamber Office Closed
DESCRIPTION:We will be back open on Monday\, February 6. We apologize for any inconvenience.
X-ALT-DESC;FMTTYPE=text/html:We will be back open on Monday\, February 6. We apologize for any inconvenience.
LOCATION:
UID:e.1271.6132
SEQUENCE:3
DTSTAMP:20260425T225702Z
URL:https://members.hayschamber.com/events/details/chamber-office-closed-6132
END:VEVENT

END:VCALENDAR
