BEGIN:VCALENDAR
VERSION:2.0
PRODID:-//ChamberMaster//Event Calendar 2.0//EN
METHOD:PUBLISH
X-PUBLISHED-TTL:P3D
REFRESH-INTERVAL:P3D
CALSCALE:GREGORIAN
BEGIN:VEVENT
DTSTART:20261120T000000Z
DTEND:20261120T020000Z
X-MICROSOFT-CDO-ALLDAYEVENT:FALSE
SUMMARY:Child Care Provider Professional Development Series
DESCRIPTION:All area child care providers are welcome to attend the FREE Child Care Provider Quarterly Professional Development Series. Attendees will receive credit towards annual recertification requirements.\n\n\n\nSpeaker: TBD\n\nTopic: TBD\n\n\n\nWe are also pleased to offer FREE fingerprinting services at this event from 5:00 p.m. until 7:00 p.m. Preference will be given to child care providers and their spouses whose fingerprints expire within 45 - 60 days of each event.\n\n\n\nThere will also be a prize drawing for attendees that evening. This is a wonderful opportunity for child care providers to connect with fellow professionals and build strong networks. \n\n\n\nA special thank you to the Robert E. & Patricia A. Schmidt Foundation for their sponsorship of this series!
X-ALT-DESC;FMTTYPE=text/html:All area child care providers are welcome to attend the FREE Child Care Provider Quarterly Professional Development Series.&nbsp\;Attendees will receive credit towards annual recertification requirements.<br />\n<br />\n<u><strong>Speaker: </strong></u>TBD<br />\n<span style="font-family: Roboto\, sans-serif\;"><u><strong>Topic</strong></u>: </span>TBD<br />\n<br />\nWe are also pleased to offer&nbsp\;<b><u>FREE</u></b>&nbsp\;fingerprinting services at this event from 5:00 p.m. until 7:00 p.m. Preference will be given to child care providers and their spouses whose fingerprints expire within 45 - 60 days of each event.<br />\n<br />\n<span style="font-family: arial\;">There will also be a prize drawing for attendees that evening. This is a wonderful opportunity for child care providers to connect with fellow professionals and build strong networks.&nbsp\;</span><br />\n<br />\nA special thank you to the&nbsp\;Robert E. &amp\; Patricia A. Schmidt Foundation for their sponsorship of this series!
LOCATION:Lb. Event Center & Catering 121 E 11th St.\, Hays
UID:e.1271.12579
SEQUENCE:3
DTSTAMP:20260424T140424Z
URL:https://members.hayschamber.com/events/details/child-care-provider-professional-development-series-12579
END:VEVENT

END:VCALENDAR
