BEGIN:VCALENDAR
VERSION:2.0
PRODID:-//ChamberMaster//Event Calendar 2.0//EN
METHOD:PUBLISH
X-PUBLISHED-TTL:P3D
REFRESH-INTERVAL:P3D
CALSCALE:GREGORIAN
BEGIN:VEVENT
DTSTART:20190726T180000Z
DTEND:20190726T200000Z
X-MICROSOFT-CDO-ALLDAYEVENT:FALSE
SUMMARY:Come-and-go Farewell Reception for Tammy Wellbrock
DESCRIPTION:We hope you will all be able to join us for one last hurrah (cake and punch will be available\, but so will a cash bar!)\n\n \n\nThis is a come-and-go reception between 1 and 3 p.m. at the Smoky Hill Country Club immediately following the July Membership lunch.\n\nBe there or be square!
X-ALT-DESC;FMTTYPE=text/html:We hope you will all be able to join us for one last hurrah (cake and punch will be available\, but so will a cash bar!)<br />\n&nbsp\;<br />\nThis is a come-and-go reception between 1 and 3 p.m. at the Smoky Hill Country Club immediately following the July Membership lunch.<br />\nBe there or be square!<br />\n&nbsp\;
LOCATION:Smoky Hill Country Club 3303 N. Hall St
UID:e.1271.10261
SEQUENCE:3
DTSTAMP:20260422T045121Z
URL:https://members.hayschamber.com/events/details/come-and-go-farewell-reception-for-tammy-wellbrock-10261
END:VEVENT

END:VCALENDAR
