BEGIN:VCALENDAR
VERSION:2.0
PRODID:-//ChamberMaster//Event Calendar 2.0//EN
METHOD:PUBLISH
X-PUBLISHED-TTL:P3D
REFRESH-INTERVAL:P3D
CALSCALE:GREGORIAN
BEGIN:VEVENT
DTSTART:20190702T220000Z
DTEND:20190702T233000Z
X-MICROSOFT-CDO-ALLDAYEVENT:FALSE
SUMMARY:Come-and-go Reception for new President/CEO
DESCRIPTION:Please join us in welcoming the new Hays Area Chamber President/CEO Sarah Wasinger on Tuesday. July 2nd. The event will be held at the Welcome Center (2700 Vine St.) from 5   6:30 p.m. for a come-and-go reception! Light refreshments will be provided. We would love to see you there and help Sarah transition into her new role!
X-ALT-DESC;FMTTYPE=text/html:Please join us in welcoming the new Hays Area Chamber President/CEO Sarah Wasinger on Tuesday. July 2nd. The event will be held at the Welcome Center (2700 Vine St.) from 5 &ndash\; 6:30 p.m. for a come-and-go reception! Light refreshments will be provided. We would love to see you there and help Sarah transition into her new role!<br />\n<br />\n&nbsp\;
LOCATION:Welcome Center 2700 Vine
UID:e.1271.10257
SEQUENCE:3
DTSTAMP:20260422T060800Z
URL:https://members.hayschamber.com/events/details/come-and-go-reception-for-new-president-ceo-10257
END:VEVENT

END:VCALENDAR
