BEGIN:VCALENDAR
VERSION:2.0
PRODID:-//ChamberMaster//Event Calendar 2.0//EN
METHOD:PUBLISH
X-PUBLISHED-TTL:P3D
REFRESH-INTERVAL:P3D
CALSCALE:GREGORIAN
BEGIN:VEVENT
DTSTART:20180326T180000Z
DTEND:20180326T200000Z
X-MICROSOFT-CDO-ALLDAYEVENT:FALSE
SUMMARY:Community Cruise
DESCRIPTION:This event is for Elected Officials and Press to do a tour of our community.
X-ALT-DESC;FMTTYPE=text/html:This event is for Elected Officials and Press to do a tour of our community.
LOCATION:
UID:e.1271.8759
SEQUENCE:3
DTSTAMP:20260424T104753Z
URL:https://members.hayschamber.com/events/details/community-cruise-8759
END:VEVENT

END:VCALENDAR
