BEGIN:VCALENDAR
VERSION:2.0
PRODID:-//ChamberMaster//Event Calendar 2.0//EN
METHOD:PUBLISH
X-PUBLISHED-TTL:P3D
REFRESH-INTERVAL:P3D
CALSCALE:GREGORIAN
BEGIN:VEVENT
DTSTART:20190604T180000Z
DTEND:20190604T213000Z
X-MICROSOFT-CDO-ALLDAYEVENT:FALSE
SUMMARY:Dale Carnegie Course
DESCRIPTION:In this Dale Carnegie course your team will master the communication skills necessary to strengeth relationships\, develop a commanding attitude\, and instill confidence and enthusiam in your workplace! Seating is limited\, so please contact the Chamber now for more information. Chamber members are eligible for a 15% member discount of $284.28.
X-ALT-DESC;FMTTYPE=text/html:In this Dale Carnegie course your team will master the communication skills necessary to strengeth relationships\, develop a commanding attitude\, and instill confidence and enthusiam in your workplace! Seating is limited\, so please contact the Chamber now for more information. <em>Chamber members are eligible for a 15% member discount of $284.28.</em> &nbsp\;
LOCATION:Welcome Center 2700 Vine Hays\, KS 67601
UID:e.1271.10243
SEQUENCE:3
DTSTAMP:20260422T062010Z
URL:https://members.hayschamber.com/events/details/dale-carnegie-course-10243
END:VEVENT

END:VCALENDAR
