BEGIN:VCALENDAR
VERSION:2.0
PRODID:-//ChamberMaster//Event Calendar 2.0//EN
METHOD:PUBLISH
X-PUBLISHED-TTL:P3D
REFRESH-INTERVAL:P3D
CALSCALE:GREGORIAN
BEGIN:VEVENT
DTSTART:20190423T210000Z
DTEND:20190423T230000Z
X-MICROSOFT-CDO-ALLDAYEVENT:FALSE
SUMMARY:Dale Carnegie: Uncovering Leadership Blind Spots
DESCRIPTION:Join a complementary program to identify leadership attributes that are critical to performance and engagement! Find out what your leaders may be missing.
X-ALT-DESC;FMTTYPE=text/html:Join a complementary program to identify leadership attributes that are critical to performance and engagement! Find out what your leaders may be missing.
LOCATION:FHSU Robbins Center
UID:e.1271.10228
SEQUENCE:3
DTSTAMP:20260422T191136Z
URL:https://members.hayschamber.com/events/details/dale-carnegie-uncovering-leadership-blind-spots-10228
END:VEVENT

END:VCALENDAR
