BEGIN:VCALENDAR
VERSION:2.0
PRODID:-//ChamberMaster//Event Calendar 2.0//EN
METHOD:PUBLISH
X-PUBLISHED-TTL:P3D
REFRESH-INTERVAL:P3D
CALSCALE:GREGORIAN
BEGIN:VEVENT
DTSTART:20171026T220000Z
DTEND:20171027T000000Z
X-MICROSOFT-CDO-ALLDAYEVENT:FALSE
SUMMARY:DSNWK-Business After Hours
DESCRIPTION:Employment Connections/DSNWK will be hosting our annual Employer Appreciation on October 26th from 5-7 at 660 Commerce Parkway.   We would like to take this time to say thank you to all those that support our program and individuals with disabilities.   We would also like to invite the public to stop by and learn more about our services.   Appetizers and drinks provided for this come and go event.
X-ALT-DESC;FMTTYPE=text/html:<span style="font-family: times new roman\,serif\;"><span style="font-size: 12pt\;">Employment Connections/DSNWK will be hosting our annual Employer Appreciation on October 26th from 5-7 at 660 Commerce Parkway. &nbsp\; We would like to take this time to say thank you to all those that support our program and individuals with disabilities. &nbsp\; We would also like to invite the public to stop by and learn more about our services. &nbsp\; Appetizers and drinks provided for this come and go event.</span></span>
LOCATION:660 Commerce Parkway
UID:e.1271.7635
SEQUENCE:3
DTSTAMP:20260424T221324Z
URL:https://members.hayschamber.com/events/details/dsnwk-business-after-hours-7635
END:VEVENT

END:VCALENDAR
