BEGIN:VCALENDAR
VERSION:2.0
PRODID:-//ChamberMaster//Event Calendar 2.0//EN
METHOD:PUBLISH
X-PUBLISHED-TTL:P3D
REFRESH-INTERVAL:P3D
CALSCALE:GREGORIAN
BEGIN:VEVENT
DTSTART:20190827T220000Z
DTEND:20190828T000000Z
X-MICROSOFT-CDO-ALLDAYEVENT:FALSE
SUMMARY:Education Appreciation
DESCRIPTION:If you are an educator in the Hays area\, we want to appreciate you!  Please come and enjoy some delicious appetizers (could practically be supper) provided by The Rose Garden\, giveaways courtesy of our sponsors\, and a good time. Meet our new faculty around town\, and take in the cash bar. Thank you educators!
X-ALT-DESC;FMTTYPE=text/html:If you are an educator in the Hays area\, we want to appreciate you!&nbsp\; Please come and enjoy some delicious appetizers (could practically be supper) provided by The Rose Garden\, giveaways courtesy of our sponsors\, and a good time. Meet our new faculty around town\, and take in the cash bar. Thank you educators!
LOCATION:The Rose Garden Banquet Hall 2350 E. 8th
UID:e.1271.10263
SEQUENCE:3
DTSTAMP:20260422T031711Z
URL:https://members.hayschamber.com/events/details/education-appreciation-10263
END:VEVENT

END:VCALENDAR
