BEGIN:VCALENDAR
VERSION:2.0
PRODID:-//ChamberMaster//Event Calendar 2.0//EN
METHOD:PUBLISH
X-PUBLISHED-TTL:P3D
REFRESH-INTERVAL:P3D
CALSCALE:GREGORIAN
BEGIN:VEVENT
DTSTART:20180823T220000Z
DTEND:20180824T000000Z
X-MICROSOFT-CDO-ALLDAYEVENT:FALSE
SUMMARY:Education Appreciation
DESCRIPTION:
X-ALT-DESC;FMTTYPE=text/html:
LOCATION:Rose Garden 2350 E. 8th St.
UID:e.1271.8742
SEQUENCE:3
DTSTAMP:20260423T182859Z
URL:https://members.hayschamber.com/events/details/education-appreciation-8742
END:VEVENT

END:VCALENDAR
