BEGIN:VCALENDAR
VERSION:2.0
PRODID:-//ChamberMaster//Event Calendar 2.0//EN
METHOD:PUBLISH
X-PUBLISHED-TTL:P3D
REFRESH-INTERVAL:P3D
CALSCALE:GREGORIAN
BEGIN:VEVENT
DTSTART:20200310T120000Z
DTEND:20200310T130000Z
X-MICROSOFT-CDO-ALLDAYEVENT:FALSE
SUMMARY:Ellis County Sales Tax Q&A
DESCRIPTION:Ellis County Administration will be on site to share information and answer questions about the Ellis County tax question that will be going out for vote in 2020. Offering this opportunity for those that would like to join us before they have to be to work.
X-ALT-DESC;FMTTYPE=text/html:Ellis County Administration will be on site to share information and answer questions about the Ellis County tax question that will be going out for vote in 2020. Offering this opportunity for those that would like to join us before they have to be to work.
LOCATION:Welcome Center conference room 2700 Vine St.
UID:e.1271.10597
SEQUENCE:3
DTSTAMP:20260422T133157Z
URL:https://members.hayschamber.com/events/details/ellis-county-sales-tax-q-a-10597
END:VEVENT

END:VCALENDAR
