BEGIN:VCALENDAR
VERSION:2.0
PRODID:-//ChamberMaster//Event Calendar 2.0//EN
METHOD:PUBLISH
X-PUBLISHED-TTL:P3D
REFRESH-INTERVAL:P3D
CALSCALE:GREGORIAN
BEGIN:VEVENT
DTSTART:20261112T150000Z
DTEND:20261112T160000Z
X-MICROSOFT-CDO-ALLDAYEVENT:FALSE
SUMMARY:Ellis County Wellness Committee Meeting
DESCRIPTION:Please join The Chamber in Hays\, Kansas for the Wellness Committee Meeting as we work to advance a culture of lifelong wellness across Ellis County by bringing together community partners to shape a healthier future. Our meetings focus on identifying and promoting resources that promote healthy lifestyles. Help collaborate on meaningful ways to support the well-being and resilience of our workforce!
X-ALT-DESC;FMTTYPE=text/html:Please join The Chamber in Hays\, Kansas for the Wellness Committee Meeting as we work to advance a culture of lifelong wellness across Ellis County by bringing together community partners to shape a healthier future. Our meetings focus on identifying and promoting resources that promote healthy lifestyles. Help collaborate on meaningful ways to support the well-being and resilience of our workforce!
LOCATION:
UID:e.1271.12851
SEQUENCE:3
DTSTAMP:20260424T140420Z
URL:https://members.hayschamber.com/events/details/ellis-county-wellness-committee-meeting-12851
END:VEVENT

END:VCALENDAR
