BEGIN:VCALENDAR
VERSION:2.0
PRODID:-//ChamberMaster//Event Calendar 2.0//EN
METHOD:PUBLISH
X-PUBLISHED-TTL:P3D
REFRESH-INTERVAL:P3D
CALSCALE:GREGORIAN
BEGIN:VEVENT
DTSTART:20190611T230000Z
DTEND:20190612T000000Z
X-MICROSOFT-CDO-ALLDAYEVENT:FALSE
SUMMARY:Expert Young Professional: Social Media presented by Noelle Husmann
DESCRIPTION:Join us for our first Expert Young Professional event at 6 p.m. June 11 at The Paisley Pear. Noelle Husmann with Eagle Communications will lead a presentation on social media. Since she started at Eagle\, her co-workers have nicknamed her the "Queen of Social Media". Bring your questions and a smartphone as she talks with you about all aspects of social media - business or personal.
X-ALT-DESC;FMTTYPE=text/html:Join us for our first Expert Young Professional event at 6 p.m. June 11 at The Paisley Pear. Noelle Husmann with Eagle Communications will lead a presentation on social media. Since she started at Eagle\, her co-workers have nicknamed her the &quot\;Queen of Social Media&quot\;. Bring your questions and a smartphone as she talks with you about all aspects of social media - business or personal.
LOCATION:Paisley Pear 1100 Main St.
UID:e.1271.10255
SEQUENCE:3
DTSTAMP:20260422T062426Z
URL:https://members.hayschamber.com/events/details/expert-young-professional-social-media-presented-by-noelle-husmann-10255
END:VEVENT

END:VCALENDAR
