BEGIN:VCALENDAR
VERSION:2.0
PRODID:-//ChamberMaster//Event Calendar 2.0//EN
METHOD:PUBLISH
X-PUBLISHED-TTL:P3D
REFRESH-INTERVAL:P3D
CALSCALE:GREGORIAN
BEGIN:VEVENT
DTSTART:20200211T174500Z
DTEND:20200211T190000Z
X-MICROSOFT-CDO-ALLDAYEVENT:FALSE
SUMMARY:Expert Young Professional (XYP): "Building an Effective Team"
DESCRIPTION:XYP:\n\n\n\nProgram: "Building an Effective Team"\n\nAre you a new supervisor or team leader trying to figure out how to empower your team? Or are you "leading from the chair" to make your team more effective and cohesive? This hour might be JUST FOR YOU. Meet me\, Olga Detrixhe\, for lunch to chat about ways to build more effective teams\, a thriving culture and improve our organizations. Some of the topics covered will include:\n\nMeaningful one-on-one meetings.\n\nWho's got the monkey? - Time and Priority Management.\n\nSMART Goals.\n\nCommunication and vision.
X-ALT-DESC;FMTTYPE=text/html:<p>XYP:<br />\n<br />\nProgram: &quot\;Building an Effective Team&quot\;<br />\nAre you a new supervisor or team leader trying to figure out how to empower your team? Or are you &quot\;leading from the chair&quot\; to make your team more effective and cohesive? This hour might be JUST FOR YOU. Meet me\, Olga Detrixhe\, for lunch to chat about ways to build more effective teams\, a thriving culture and improve our organizations. Some of the topics covered will include:</p>\n\n<p>Meaningful one-on-one meetings.<br />\nWho&#39\;s got the monkey? - Time and Priority Management.<br />\nSMART Goals.<br />\nCommunication and vision.</p>\n
LOCATION:The Press 230 E. 8th St. Hays\, KS 67601
UID:e.1271.10572
SEQUENCE:3
DTSTAMP:20260420T105226Z
URL:https://members.hayschamber.com/events/details/expert-young-professional-xyp-building-an-effective-team-10572
END:VEVENT

END:VCALENDAR
