BEGIN:VCALENDAR
VERSION:2.0
PRODID:-//ChamberMaster//Event Calendar 2.0//EN
METHOD:PUBLISH
X-PUBLISHED-TTL:P3D
REFRESH-INTERVAL:P3D
CALSCALE:GREGORIAN
BEGIN:VEVENT
DTSTART:20180203T143000Z
DTEND:20180203T170000Z
X-MICROSOFT-CDO-ALLDAYEVENT:FALSE
SUMMARY:First Legislative Coffee
DESCRIPTION:Doors will open at 8 A.M. for the First Legislative Coffee of the season. Forum to begin at 8:30 A.M.
X-ALT-DESC;FMTTYPE=text/html:<div>Doors will open at 8 A.M. for the First Legislative Coffee of the season. Forum to begin at 8:30 A.M.</div>\n
LOCATION:Robbins Center\, FHSU Foundation Eagle Communications Hall
UID:e.1271.8713
SEQUENCE:3
DTSTAMP:20260424T144205Z
URL:https://members.hayschamber.com/events/details/first-legislative-coffee-8713
END:VEVENT

END:VCALENDAR
