BEGIN:VCALENDAR
VERSION:2.0
PRODID:-//ChamberMaster//Event Calendar 2.0//EN
METHOD:PUBLISH
X-PUBLISHED-TTL:P3D
REFRESH-INTERVAL:P3D
CALSCALE:GREGORIAN
BEGIN:VEVENT
DTSTART:20180402T220000Z
DTEND:20180402T220000Z
X-MICROSOFT-CDO-ALLDAYEVENT:FALSE
SUMMARY:Golf team registrations due
DESCRIPTION:Get your registrations in for our 9th Annual Golf Tournament\, presented by Eagle Communications.  You won't want to miss this!
X-ALT-DESC;FMTTYPE=text/html:Get your registrations in for our 9th Annual Golf Tournament\, presented by Eagle Communications.&nbsp\; You won&#39\;t want to miss this!
LOCATION:
UID:e.1271.9799
SEQUENCE:3
DTSTAMP:20260424T042832Z
URL:https://members.hayschamber.com/events/details/golf-team-registrations-due-9799
END:VEVENT

END:VCALENDAR
