BEGIN:VCALENDAR
VERSION:2.0
PRODID:-//ChamberMaster//Event Calendar 2.0//EN
METHOD:PUBLISH
X-PUBLISHED-TTL:P3D
REFRESH-INTERVAL:P3D
CALSCALE:GREGORIAN
BEGIN:VEVENT
DTSTART:20190712T130000Z
DTEND:20190712T140000Z
X-MICROSOFT-CDO-ALLDAYEVENT:FALSE
SUMMARY:Grand Re-Opening - Walmart Supercenter - New Date
DESCRIPTION:Was originally scheduled for July 3rd - has been moved to July 12th\, 8 a.m. Please still come and help us celebrate the completed renovations for our very own Walmart Supercenter!
X-ALT-DESC;FMTTYPE=text/html:Was originally scheduled for July 3rd - has been moved to July 12th\, 8 a.m. Please still come and help us celebrate the completed renovations for our very own Walmart Supercenter!
LOCATION:4301 Vine St.
UID:e.1271.10262
SEQUENCE:3
DTSTAMP:20260422T062502Z
URL:https://members.hayschamber.com/events/details/grand-re-opening-walmart-supercenter-new-date-10262
END:VEVENT

END:VCALENDAR
