BEGIN:VCALENDAR
VERSION:2.0
PRODID:-//ChamberMaster//Event Calendar 2.0//EN
METHOD:PUBLISH
X-PUBLISHED-TTL:P3D
REFRESH-INTERVAL:P3D
CALSCALE:GREGORIAN
BEGIN:VEVENT
DTSTART;VALUE=DATE:20190830
DTEND;VALUE=DATE:20190831
TRANSP:TRANSPARENT
X-MICROSOFT-CDO-ALLDAYEVENT:TRUE
SUMMARY:HACC BOD Nominations Deadline
DESCRIPTION:If you are intending to apply for the 2020 HACC Board of Directors\, your application is due today by 5:00pm to hayscc@discoverhays.com.\n\n\n\nAn application can be found on our website at http://discoverhays.com/FORMS/ChamberBoardApplication.aspx or by emailing us at hayscc@discoverhays.com.
X-ALT-DESC;FMTTYPE=text/html:If you are intending to apply for the 2020 HACC Board of Directors\, your application is due today by 5:00pm to hayscc@discoverhays.com.<br />\n<br />\nAn application can be found on our website at&nbsp\;http://discoverhays.com/FORMS/ChamberBoardApplication.aspx or by emailing us at hayscc@discoverhays.com.
LOCATION:
UID:e.1271.10287
SEQUENCE:3
DTSTAMP:20260422T044918Z
URL:https://members.hayschamber.com/events/details/hacc-bod-nominations-deadline-10287
END:VEVENT

END:VCALENDAR
